BEGIN:VCALENDAR
VERSION:2.0
PRODID:-//RV-Hemmental - ECPv6.10.2//NONSGML v1.0//EN
CALSCALE:GREGORIAN
METHOD:PUBLISH
X-ORIGINAL-URL:https://www.rvh.ch
X-WR-CALDESC:Veranstaltungen für RV-Hemmental
REFRESH-INTERVAL;VALUE=DURATION:PT1H
X-Robots-Tag:noindex
X-PUBLISHED-TTL:PT1H
BEGIN:VTIMEZONE
TZID:UTC
BEGIN:STANDARD
TZOFFSETFROM:+0000
TZOFFSETTO:+0000
TZNAME:UTC
DTSTART:20260101T000000
END:STANDARD
END:VTIMEZONE
BEGIN:VEVENT
DTSTART;VALUE=DATE:20260917
DTEND;VALUE=DATE:20260921
DTSTAMP:20260421T122534
CREATED:20260224T163540Z
LAST-MODIFIED:20260224T163540Z
UID:4361-1789603200-1789948799@www.rvh.ch
SUMMARY:Herbsttour
DESCRIPTION:
URL:https://www.rvh.ch/event/herbsttour-8/
CATEGORIES:Termine
END:VEVENT
BEGIN:VEVENT
DTSTART;TZID=UTC:20260927T100000
DTEND;TZID=UTC:20260927T120000
DTSTAMP:20260421T122534
CREATED:20260224T163614Z
LAST-MODIFIED:20260224T163614Z
UID:4363-1790503200-1790510400@www.rvh.ch
SUMMARY:Vereinszeitfahren
DESCRIPTION:
URL:https://www.rvh.ch/event/vereinszeitfahren-7/
CATEGORIES:Termine
END:VEVENT
END:VCALENDAR