BEGIN:VCALENDAR
VERSION:2.0
PRODID:-//RV-Hemmental - ECPv6.10.2//NONSGML v1.0//EN
CALSCALE:GREGORIAN
METHOD:PUBLISH
X-WR-CALNAME:RV-Hemmental
X-ORIGINAL-URL:https://www.rvh.ch
X-WR-CALDESC:Veranstaltungen für RV-Hemmental
REFRESH-INTERVAL;VALUE=DURATION:PT1H
X-Robots-Tag:noindex
X-PUBLISHED-TTL:PT1H
BEGIN:VTIMEZONE
TZID:UTC
BEGIN:STANDARD
TZOFFSETFROM:+0000
TZOFFSETTO:+0000
TZNAME:UTC
DTSTART:20260101T000000
END:STANDARD
END:VTIMEZONE
BEGIN:VEVENT
DTSTART;VALUE=DATE:20261017
DTEND;VALUE=DATE:20261018
DTSTAMP:20260421T141021
CREATED:20260224T163631Z
LAST-MODIFIED:20260224T163631Z
UID:4365-1792195200-1792281599@www.rvh.ch
SUMMARY:Schlussbummel
DESCRIPTION:
URL:https://www.rvh.ch/event/schlussbummel-10/
CATEGORIES:Termine
END:VEVENT
END:VCALENDAR